BEGIN:VCALENDAR
VERSION:2.0
PRODID:-//wp-events-plugin.com//6.6.3//EN
TZID:Europe/Berlin
X-WR-TIMEZONE:Europe/Berlin
BEGIN:VEVENT
UID:31@scstetten.de
DTSTART;TZID=Europe/Berlin;VALUE=DATE:20211211
DTEND;TZID=Europe/Berlin;VALUE=DATE:20211213
DTSTAMP:20211115T192111Z
URL:https://scstetten.de/events/11-12-2021-12-12-2021-volksbank-albstadt-s
 kiopening-damuels/
SUMMARY:11.12.2021 - 12.12.2021 Volksbank Albstadt Skiopening Damüls
DESCRIPTION:An zwei Tagen wollen wir gemeinsam den Start in die neue Saison
  genießen!\nAm Fuße der Damülser Mittagsspitze liegt der Berggasthof Ug
 a-Alp\,\nauf der wir mitten im Skigebiet übernachten werden.\n\nPreise in
 kl. Fahrt\, Übernachtung mit Halbpension auf der Uga und 2-Tages-Liftpass
 :\n\nBambini ab Jg. 2016 und jünger       € 75\,-\nKinder Jg. 2006 
 - 2015                     € 115\,-\nJunioren Jg. 2003 - 2005
                   € 155.-\nErwachsene ab Jg. 2002 und ält
 er    € 165\,-\nSenioren ab Jg. 1957 und älter         € 1
 60\,-\nNicht-Mitglieder zahlen einen Aufpreis von € 10\,-\n\nAbfahrt:\nS
 tetten / Alemannenhalle 06:00 Uhr\n\nDie Veranstaltung findet nur bei ausr
 eichender Schneelage\nund vorbehaltlich der zu diesem Zeitpunkt gültigen 
 Corona-Regeln statt.\n\nKeine Ski- und Snowboardkurse!\n\nAnmeldung und Le
 itung:\nMartin Löffler\,\nTel. 0 75 73 / 95 100\nVorstand@SCStetten.de\n\
 n
LOCATION:Uga 109\, 6884 Damüls\, Österreich\, Uga 109\, Damüls\, 6884\, 
 Österreich
GEO:47.282876;9.891601
X-APPLE-STRUCTURED-LOCATION;VALUE=URI;X-ADDRESS=Uga 109\, Damüls\, 6884\, 
 Österreich;X-APPLE-RADIUS=100;X-TITLE=Uga 109\, 6884 Damüls\, Österreic
 h:geo:47.282876,9.891601
END:VEVENT
BEGIN:VTIMEZONE
TZID:Europe/Berlin
X-LIC-LOCATION:Europe/Berlin
BEGIN:STANDARD
DTSTART:20211031T020000
TZOFFSETFROM:+0200
TZOFFSETTO:+0100
TZNAME:CET
END:STANDARD
END:VTIMEZONE
END:VCALENDAR