BEGIN:VCALENDAR
VERSION:2.0
PRODID:-//wp-events-plugin.com//6.6.3//EN
TZID:Europe/Berlin
X-WR-TIMEZONE:Europe/Berlin
BEGIN:VEVENT
UID:54@scstetten.de
DTSTART;TZID=Europe/Berlin:20230923T090000
DTEND;TZID=Europe/Berlin:20230923T130000
DTSTAMP:20230910T104817Z
URL:https://scstetten.de/events/arbeitsdienst-2/
SUMMARY:Arbeitsdienst
DESCRIPTION:
ATTACH;FMTTYPE=image/jpeg:https://scstetten.de/wp-content/uploads/2022/11/
 IMG-20220927-WA0002.jpg
LOCATION:Skiwiese\, Storzingerstraße\, Stetten a.k.M.\, 72510\, BW\, Deuts
 chland
GEO:48.126188;9.090549
X-APPLE-STRUCTURED-LOCATION;VALUE=URI;X-ADDRESS=Storzingerstraße\, Stetten
  a.k.M.\, 72510\, BW\, Deutschland;X-APPLE-RADIUS=100;X-TITLE=Skiwiese:geo
 :48.126188,9.090549
END:VEVENT
BEGIN:VTIMEZONE
TZID:Europe/Berlin
X-LIC-LOCATION:Europe/Berlin
BEGIN:DAYLIGHT
DTSTART:20230326T030000
TZOFFSETFROM:+0100
TZOFFSETTO:+0200
TZNAME:CEST
END:DAYLIGHT
END:VTIMEZONE
END:VCALENDAR