BEGIN:VCALENDAR
VERSION:2.0
PRODID:-//wp-events-plugin.com//6.6.3//EN
TZID:Europe/Berlin
X-WR-TIMEZONE:Europe/Berlin
BEGIN:VEVENT
UID:62@scstetten.de
DTSTART;TZID=Europe/Berlin:20240524T200000
DTEND;TZID=Europe/Berlin:20240524T223000
DTSTAMP:20231230T140211Z
URL:https://scstetten.de/events/jahreshauptversammlung-5/
SUMMARY:Jahreshauptversammlung
DESCRIPTION:
ATTACH;FMTTYPE=image/jpeg:https://scstetten.de/wp-content/uploads/2021/10/
 scstetten_logo_neu.png
LOCATION:Haus Heuberg XXL Soldatenheim\, Hardtstraße 48\, Stetten a.k.M.\,
  72510\, Deutschland
GEO:48.124741;9.069829
X-APPLE-STRUCTURED-LOCATION;VALUE=URI;X-ADDRESS=Hardtstraße 48\, Stetten a
 .k.M.\, 72510\, Deutschland;X-APPLE-RADIUS=100;X-TITLE=Haus Heuberg XXL So
 ldatenheim:geo:48.124741,9.069829
END:VEVENT
BEGIN:VTIMEZONE
TZID:Europe/Berlin
X-LIC-LOCATION:Europe/Berlin
BEGIN:DAYLIGHT
DTSTART:20240331T030000
TZOFFSETFROM:+0100
TZOFFSETTO:+0200
TZNAME:CEST
END:DAYLIGHT
END:VTIMEZONE
END:VCALENDAR