BEGIN:VCALENDAR
VERSION:2.0
PRODID:-//wp-events-plugin.com//6.6.3//EN
TZID:Europe/Berlin
X-WR-TIMEZONE:Europe/Berlin
BEGIN:VEVENT
UID:9@scstetten.de
DTSTART;TZID=Europe/Berlin:20200515T200000
DTEND;TZID=Europe/Berlin:20200515T220000
DTSTAMP:20200301T130205Z
URL:https://scstetten.de/events/jahreshauptversammlung/
SUMMARY:Jahreshauptversammlung
DESCRIPTION:
LOCATION:Gasthaus Sonne\, Hauptstrasse\, Stetten a.k.M.\, 72510\, Deutschla
 nd
GEO:48.119778;9.080056
X-APPLE-STRUCTURED-LOCATION;VALUE=URI;X-ADDRESS=Hauptstrasse\, Stetten a.k.
 M.\, 72510\, Deutschland;X-APPLE-RADIUS=100;X-TITLE=Gasthaus Sonne:geo:48.
 119778,9.080056
END:VEVENT
BEGIN:VTIMEZONE
TZID:Europe/Berlin
X-LIC-LOCATION:Europe/Berlin
BEGIN:DAYLIGHT
DTSTART:20200329T030000
TZOFFSETFROM:+0100
TZOFFSETTO:+0200
TZNAME:CEST
END:DAYLIGHT
END:VTIMEZONE
END:VCALENDAR