BEGIN:VCALENDAR
VERSION:2.0
PRODID:-//wp-events-plugin.com//6.6.3//EN
TZID:Europe/Berlin
X-WR-TIMEZONE:Europe/Berlin
BEGIN:VEVENT
UID:60@scstetten.de
DTSTART;TZID=Europe/Berlin;VALUE=DATE:20240302
DTEND;TZID=Europe/Berlin;VALUE=DATE:20240303
DTSTAMP:20240204T174829Z
URL:https://scstetten.de/events/kreismeisterschaft/
SUMMARY:Kreismeisterschaft
DESCRIPTION:\n\nAusschreibung\n\n\n\nKreismeisterschaft Ausschreibung
ATTACH;FMTTYPE=image/jpeg:https://scstetten.de/wp-content/uploads/2020/01/
 20200118_135038-scaled-e1703944124424.jpg
LOCATION:Wallisgaden\, Damüls\, Damüls 59\, Damüls\, Österreich
GEO:47.29236;9.87834
X-APPLE-STRUCTURED-LOCATION;VALUE=URI;X-ADDRESS=Damüls 59\, Damüls\, Öst
 erreich;X-APPLE-RADIUS=100;X-TITLE=Wallisgaden\, Damüls:geo:47.29236,9.87
 834
END:VEVENT
BEGIN:VTIMEZONE
TZID:Europe/Berlin
X-LIC-LOCATION:Europe/Berlin
BEGIN:STANDARD
DTSTART:20231029T020000
TZOFFSETFROM:+0200
TZOFFSETTO:+0100
TZNAME:CET
END:STANDARD
END:VTIMEZONE
END:VCALENDAR