BEGIN:VCALENDAR
VERSION:2.0
PRODID:-//wp-events-plugin.com//6.6.3//EN
TZID:Europe/Berlin
X-WR-TIMEZONE:Europe/Berlin
BEGIN:VEVENT
UID:63@scstetten.de
DTSTART;TZID=Europe/Berlin:20240721T100000
DTEND;TZID=Europe/Berlin:20240721T120000
DTSTAMP:20240422T163653Z
URL:https://scstetten.de/events/wasserskifahren-seepark-pfullendorf-4/
SUMMARY:Wasserskifahren Seepark Pfullendorf
DESCRIPTION:
ATTACH;FMTTYPE=image/jpeg:https://scstetten.de/wp-content/uploads/2024/04/
 Wasserski-2018-16-scaled-e1713803733444.jpg
END:VEVENT
BEGIN:VTIMEZONE
TZID:Europe/Berlin
X-LIC-LOCATION:Europe/Berlin
BEGIN:DAYLIGHT
DTSTART:20240331T030000
TZOFFSETFROM:+0100
TZOFFSETTO:+0200
TZNAME:CEST
END:DAYLIGHT
END:VTIMEZONE
END:VCALENDAR