BEGIN:VCALENDAR
VERSION:2.0
PRODID:-//wp-events-plugin.com//6.6.3//EN
TZID:Europe/Berlin
X-WR-TIMEZONE:Europe/Berlin
BEGIN:VEVENT
UID:7@scstetten.de
DTSTART;TZID=Europe/Berlin:20200621T100000
DTEND;TZID=Europe/Berlin:20200621T120000
DTSTAMP:20200301T125409Z
URL:https://scstetten.de/events/wasserskifahren-seepark-pfullendorf/
SUMMARY:Wasserskifahren\, Seepark Pfullendorf
DESCRIPTION:
LOCATION:Seepark Pfullendorf\, Seepark \, Pfullendorf\, 88630\, Deutschland
GEO:47.932007;9.236827
X-APPLE-STRUCTURED-LOCATION;VALUE=URI;X-ADDRESS=Seepark \, Pfullendorf\, 88
 630\, Deutschland;X-APPLE-RADIUS=100;X-TITLE=Seepark Pfullendorf:geo:47.93
 2007,9.236827
END:VEVENT
BEGIN:VTIMEZONE
TZID:Europe/Berlin
X-LIC-LOCATION:Europe/Berlin
BEGIN:DAYLIGHT
DTSTART:20200329T030000
TZOFFSETFROM:+0100
TZOFFSETTO:+0200
TZNAME:CEST
END:DAYLIGHT
END:VTIMEZONE
END:VCALENDAR